BEGIN:VCALENDAR
VERSION:2.0
PRODID: -//CMS 5.0 //NONSGML //DE
BEGIN:VEVENT
SUMMARY:Gottesdienst mit Apostel Jürgen Loy
DESCRIPTION:<p>Eingeladen sinde die Gemeinden Aichtal, Frickenhausen, Ob
 erboihingen und Wolfschlugen.</p>\n
UID:311899@www.nak-nuertingen.de
LOCATION:Nürtingen
CATEGORIES:Aichtal-Neuenhaus,Wolfschlugen,Bezirk (ohne Gemeinden),Oberboihingen,Frickenhausen,Nürtingen
X-ORGANIZER:
STATUS:CONFIRMED
CLASS:PUBLIC
DTSTART:20260503T073000Z
DTEND:20260503T090000Z
DTSTAMP:20260420T022004Z
CREATED:20240525T220115Z
LAST-MODIFIED:20260413T190317Z
END:VEVENT
BEGIN:VEVENT
SUMMARY:Gottesdienst mit Bischof Matthias Grauer und Silberne Hochzeit
DESCRIPTION:
UID:334266@www.nak-nuertingen.de
LOCATION:Metzingen
CATEGORIES:Metzingen,Bezirk (ohne Gemeinden)
X-ORGANIZER:
STATUS:CONFIRMED
CLASS:PUBLIC
DTSTART:20260419T073000Z
DTEND:20260419T090000Z
DTSTAMP:20260420T022004Z
CREATED:20250325T215604Z
LAST-MODIFIED:20260320T065403Z
END:VEVENT
BEGIN:VEVENT
SUMMARY:Bildübertragung des Gottesdienstes mit Stammapostel Jean-Luc Sc
 hneider aus Südafrika
DESCRIPTION:
UID:338361@www.nak-nuertingen.de
LOCATION:Südafrika
CATEGORIES:Bezirk (und alle Gemeinden)
X-ORGANIZER:
STATUS:CONFIRMED
CLASS:PUBLIC
DTSTART:20260524T080000Z
DTEND:20260524T100000Z
DTSTAMP:20260420T022004Z
CREATED:20250521T210140Z
LAST-MODIFIED:20260413T191157Z
END:VEVENT
BEGIN:VEVENT
SUMMARY:Jugendgottesdienst mit Bezirksältester Peter Kromer
DESCRIPTION:
UID:338362@www.nak-nuertingen.de
LOCATION:Grafenberg
CATEGORIES:Bezirk (und alle Gemeinden)
X-ORGANIZER:
STATUS:CONFIRMED
CLASS:PUBLIC
DTSTART:20260517T080000Z
DTEND:20260517T090000Z
DTSTAMP:20260420T022004Z
CREATED:20250521T210220Z
LAST-MODIFIED:20260413T190955Z
END:VEVENT
BEGIN:VEVENT
SUMMARY:Konzert Regionalchor
DESCRIPTION:
UID:358997@www.nak-nuertingen.de
LOCATION:Stuttgart-Ost
CATEGORIES:Bezirk (ohne Gemeinden)
X-ORGANIZER:
STATUS:CONFIRMED
CLASS:PUBLIC
DTSTART:20260321T170000Z
DTEND:20260321T200000Z
DTSTAMP:20260420T022004Z
CREATED:20260212T203628Z
LAST-MODIFIED:20260212T203717Z
END:VEVENT
BEGIN:VEVENT
SUMMARY:Konzert Regionalchor
DESCRIPTION:
UID:358998@www.nak-nuertingen.de
LOCATION:Reutlingen
CATEGORIES:Bezirk (ohne Gemeinden)
X-ORGANIZER:
STATUS:CONFIRMED
CLASS:PUBLIC
DTSTART:20260322T160000Z
DTEND:20260322T190000Z
DTSTAMP:20260420T022004Z
CREATED:20260212T203727Z
LAST-MODIFIED:20260212T203803Z
END:VEVENT
BEGIN:VEVENT
SUMMARY:Jugendgottesdienst gemeinsam mit dem Bezirk Reutlingen
DESCRIPTION:
UID:358999@www.nak-nuertingen.de
LOCATION:auf der Sonnenmatte
CATEGORIES:Bezirk (und alle Gemeinden)
X-ORGANIZER:
STATUS:CONFIRMED
CLASS:PUBLIC
DTSTART:20260322T090000Z
DTEND:20260322T100000Z
DTSTAMP:20260420T022004Z
CREATED:20260212T203811Z
LAST-MODIFIED:20260212T203900Z
END:VEVENT
BEGIN:VEVENT
SUMMARY:KiGO mit Prienster Dirk Allmendinger
DESCRIPTION:
UID:359000@www.nak-nuertingen.de
LOCATION:Frickenhausen
CATEGORIES:Bezirk (und alle Gemeinden)
X-ORGANIZER:
STATUS:CONFIRMED
CLASS:PUBLIC
DTSTART:20260329T080000Z
DTEND:20260329T090000Z
DTSTAMP:20260420T022004Z
CREATED:20260212T203922Z
LAST-MODIFIED:20260212T204011Z
END:VEVENT
BEGIN:VEVENT
SUMMARY:Oster-Gottesdienst mit Bezirksapostel Michael Ehrich per Bild- u
 nd Tonübertragung aus Kempten
DESCRIPTION:
UID:361412@www.nak-nuertingen.de
LOCATION:
CATEGORIES:Bezirk (und alle Gemeinden)
X-ORGANIZER:
STATUS:CONFIRMED
CLASS:PUBLIC
DTSTART:20260405T080000Z
DTEND:20260405T100000Z
DTSTAMP:20260420T022004Z
CREATED:20260320T064525Z
LAST-MODIFIED:20260320T064629Z
END:VEVENT
BEGIN:VEVENT
SUMMARY:Konfirmations-Gottesdienst mit Bezirksältester Peter Kromer
DESCRIPTION:<p>Eingeladen sind die Gemeinden Bad Urach und Münsingen.</
 p>\n
UID:361413@www.nak-nuertingen.de
LOCATION:Metzingen
CATEGORIES:Bad Urach,Metzingen,Münsingen,Bezirk (ohne Gemeinden)
X-ORGANIZER:
STATUS:CONFIRMED
CLASS:PUBLIC
DTSTART:20260412T080000Z
DTEND:20260412T100000Z
DTSTAMP:20260420T022004Z
CREATED:20260320T064631Z
LAST-MODIFIED:20260320T065317Z
END:VEVENT
BEGIN:VEVENT
SUMMARY:Konzert "Friede" Jugendchor Reutlingen-Nürtingen
DESCRIPTION:
UID:361414@www.nak-nuertingen.de
LOCATION:NAK Reutlingen
CATEGORIES:Bezirk (ohne Gemeinden)
X-ORGANIZER:
STATUS:CONFIRMED
CLASS:PUBLIC
DTSTART:20260418T170000Z
DTEND:20260418T190000Z
DTSTAMP:20260420T022004Z
CREATED:20260320T064821Z
LAST-MODIFIED:20260320T064921Z
END:VEVENT
BEGIN:VEVENT
SUMMARY:Gottesdienst mit Priester Bernd Schwennig und Diamantene Hochzei
 t
DESCRIPTION:
UID:361415@www.nak-nuertingen.de
LOCATION:Grafenberg
CATEGORIES:Grafenberg,Bezirk (ohne Gemeinden)
X-ORGANIZER:
STATUS:CONFIRMED
CLASS:PUBLIC
DTSTART:20260426T073000Z
DTEND:20260426T090000Z
DTSTAMP:20260420T022004Z
CREATED:20260320T064935Z
LAST-MODIFIED:20260320T065027Z
END:VEVENT
BEGIN:VEVENT
SUMMARY:Jugendgottesdienst mit Priester Lepschy
DESCRIPTION:
UID:361416@www.nak-nuertingen.de
LOCATION:Frickenhausen
CATEGORIES:Bezirk (und alle Gemeinden)
X-ORGANIZER:
STATUS:CONFIRMED
CLASS:PUBLIC
DTSTART:20260426T080000Z
DTEND:20260426T090000Z
DTSTAMP:20260420T022004Z
CREATED:20260320T065041Z
LAST-MODIFIED:20260320T065127Z
END:VEVENT
BEGIN:VEVENT
SUMMARY:Karfeitags-Gottesdienste in allen Gemeinden außer Wolfschlugen
DESCRIPTION:
UID:361417@www.nak-nuertingen.de
LOCATION:
CATEGORIES:Bezirk (und alle Gemeinden)
X-ORGANIZER:
STATUS:CONFIRMED
CLASS:PUBLIC
DTSTART:20260403T073000Z
DTEND:20260403T090000Z
DTSTAMP:20260420T022004Z
CREATED:20260320T065153Z
LAST-MODIFIED:20260320T065233Z
END:VEVENT
BEGIN:VEVENT
SUMMARY:keine Gottesdienst in den Gemeinden
DESCRIPTION:
UID:361418@www.nak-nuertingen.de
LOCATION:
CATEGORIES:Bezirk (und alle Gemeinden)
X-ORGANIZER:
STATUS:CONFIRMED
CLASS:PUBLIC
DTSTART:20260401T180000Z
DTEND:20260401T190000Z
DTSTAMP:20260420T022004Z
CREATED:20260320T065508Z
LAST-MODIFIED:20260320T065541Z
END:VEVENT
BEGIN:VEVENT
SUMMARY:Konzer "Moments of Faith"
DESCRIPTION:
UID:363517@www.nak-nuertingen.de
LOCATION:NAK Reutlingen 
CATEGORIES:Bezirk (ohne Gemeinden)
X-ORGANIZER:
STATUS:CONFIRMED
CLASS:PUBLIC
DTSTART:20260503T170000Z
DTEND:20260503T190000Z
DTSTAMP:20260420T022004Z
CREATED:20260413T190329Z
LAST-MODIFIED:20260413T190411Z
END:VEVENT
BEGIN:VEVENT
SUMMARY:JugendPlus Gottesdienst mit Priester Markus Kurz
DESCRIPTION:
UID:363518@www.nak-nuertingen.de
LOCATION:Sielmingen
CATEGORIES:Bezirk (und alle Gemeinden)
X-ORGANIZER:
STATUS:CONFIRMED
CLASS:PUBLIC
DTSTART:20260506T180000Z
DTEND:20260506T190000Z
DTSTAMP:20260420T022004Z
CREATED:20260413T190457Z
LAST-MODIFIED:20260413T190544Z
END:VEVENT
BEGIN:VEVENT
SUMMARY:Keine Gottesdienste in den Gemeinden
DESCRIPTION:
UID:363519@www.nak-nuertingen.de
LOCATION:
CATEGORIES:Bezirk (und alle Gemeinden)
X-ORGANIZER:
STATUS:CONFIRMED
CLASS:PUBLIC
DTSTART:20260513T180000Z
DTEND:20260513T190000Z
DTSTAMP:20260420T022004Z
CREATED:20260413T190556Z
LAST-MODIFIED:20260413T190637Z
END:VEVENT
BEGIN:VEVENT
SUMMARY:Himmelfahrts-Gottesdienste in den Gemeinden
DESCRIPTION:
UID:363520@www.nak-nuertingen.de
LOCATION:
CATEGORIES:Bezirk (und alle Gemeinden)
X-ORGANIZER:
STATUS:CONFIRMED
CLASS:PUBLIC
DTSTART:20260514T073000Z
DTEND:20260514T090000Z
DTSTAMP:20260420T022004Z
CREATED:20260413T190650Z
LAST-MODIFIED:20260413T191250Z
END:VEVENT
BEGIN:VEVENT
SUMMARY:Gottesdienst mit Bezirksevangelist Uwe Zimmerer und Diamantene H
 ochzeit
DESCRIPTION:
UID:363521@www.nak-nuertingen.de
LOCATION:Nürtingen
CATEGORIES:Bezirk (ohne Gemeinden),Nürtingen
X-ORGANIZER:
STATUS:CONFIRMED
CLASS:PUBLIC
DTSTART:20260517T073000Z
DTEND:20260517T190000Z
DTSTAMP:20260420T022004Z
CREATED:20260413T190802Z
LAST-MODIFIED:20260413T190857Z
END:VEVENT
BEGIN:VEVENT
SUMMARY:Bewegte Zeiten ... Vortrag von AP i.R. Volker Kühnle 
DESCRIPTION:<p>Nähere Informationen entnehmen Sie bitte dem Plakat.</p>
 \n
UID:363641@www.nak-nuertingen.de
LOCATION:Nürtingen
CATEGORIES:Bezirk (ohne Gemeinden)
X-ORGANIZER:
STATUS:CONFIRMED
CLASS:PUBLIC
DTSTART:20260423T173000Z
DTEND:20260423T190000Z
DTSTAMP:20260420T022004Z
CREATED:20260415T195817Z
LAST-MODIFIED:20260415T200059Z
END:VEVENT
END:VCALENDAR
